BEGIN:VCALENDAR
VERSION:2.0
PRODID:-//Love Base Festival - ECPv6.15.20//NONSGML v1.0//EN
CALSCALE:GREGORIAN
METHOD:PUBLISH
X-ORIGINAL-URL:https://sensual-lovebase.com
X-WR-CALDESC:Veranstaltungen für Love Base Festival
REFRESH-INTERVAL;VALUE=DURATION:PT1H
X-Robots-Tag:noindex
X-PUBLISHED-TTL:PT1H
BEGIN:VTIMEZONE
TZID:Europe/Vienna
BEGIN:DAYLIGHT
TZOFFSETFROM:+0100
TZOFFSETTO:+0200
TZNAME:CEST
DTSTART:20250330T010000
END:DAYLIGHT
BEGIN:STANDARD
TZOFFSETFROM:+0200
TZOFFSETTO:+0100
TZNAME:CET
DTSTART:20251026T010000
END:STANDARD
BEGIN:DAYLIGHT
TZOFFSETFROM:+0100
TZOFFSETTO:+0200
TZNAME:CEST
DTSTART:20260329T010000
END:DAYLIGHT
BEGIN:STANDARD
TZOFFSETFROM:+0200
TZOFFSETTO:+0100
TZNAME:CET
DTSTART:20261025T010000
END:STANDARD
BEGIN:DAYLIGHT
TZOFFSETFROM:+0100
TZOFFSETTO:+0200
TZNAME:CEST
DTSTART:20270328T010000
END:DAYLIGHT
BEGIN:STANDARD
TZOFFSETFROM:+0200
TZOFFSETTO:+0100
TZNAME:CET
DTSTART:20271031T010000
END:STANDARD
END:VTIMEZONE
BEGIN:VEVENT
DTSTART;TZID=Europe/Vienna:20260223T190000
DTEND;TZID=Europe/Vienna:20260223T220000
DTSTAMP:20260422T205550
CREATED:20250902T112312Z
LAST-MODIFIED:20260112T113939Z
UID:890-1771873200-1771884000@sensual-lovebase.com
SUMMARY:Abend der Sinne "Angel Touch für Yoni und Lingam" mit Ildiko Vegh
DESCRIPTION:Über den Workshop\nAngel Touch für Yoni und Lingam \nMit Achtsamkeit\, Präsenz und Sinnlichkeit begeben wir uns auf eine Reise zu Yoni und Lingam. Die Berührung wird geschenkt – langsam\, feinfühlig und respektvoll (Yoni nur von außen). Wir erforschen\, was entsteht\, wenn wir uns Zeit nehmen – für kleinste Bewegungen\, stille Momente\, erwachende Empfindungen und den Fluss von Energie im Körper. Nicht die Stimulation steht im Vordergrund\, sondern einfühlsame Impulse\, die Wellen auslösen und sich ausbreiten dürfen. \nDer Energieausgleich für den Abend wird in deinem Ermessen zwischen 36\,- und 45\,- liegen. \nLink in die Gruppe zur fixen Anmeldung \nWichtige Hinweise\n\nBitte komm mit ÜbungspartnerIn\, Partnerwechsel ist nicht möglich.\nIn diesem Workshop sind wir nackt!\n\nBringt bitte mit\n\nHandtuch\nÖllaken oder großes Handtuch als Unterlage\, um die Matte vom Öl zu schützen\nPlatztuch\nLunghi/Pareo\nMassageöl\n\nAnleitung\nIldiko Vegh \n  \n\n\n\n\n\nSensual Love Base\n\n\n\nWir laden Dich ein zu einer Reise des Spürens und der Herzöffnung – getragen von Vertrauen\, Liebe und gelebter Achtsamkeit\, und dem Mut\, Dich wirklich zu zeigen. \n\n\n\nWir bieten ca. alle 3 Wochen einen "Abend der Sinne" im Möbeldepot an. Jeder Abend wird von einer anderen Anleiterin oder einem anderen Anleiter angeleitet. \n\n\n\nUnverbindlicher Link in die allgemeine Gruppe \n\n\n\nWas Dich erwartet:\n\n\n\n\ntiefer ins Fühlen eintauchen\n\n\n\nDich selbst klarer wahrnehmen\n\n\n\neinander mit offenem Herzen begegnen\n\n\n\ngetragen sein in Achtsamkeit\, Berührung\, Klang\, Atem und Ritual\n\n\n\n\nKommt wie Ihr seid – lasst uns gemeinsam den Raum der Liebe halten. \n\n\n\nDer Energieausgleich für den Abend wird in deinem Ermessen zwischen €36\,- und €45\,- liegen. Für Vereinsmitglieder reduziert. \n\n\n\nSchick unserer Veranstaltungen gerne an deine Freunde weiter 💕 \n\n\n\nWir umarmen dich und freuen uns auf eine wunderbare gemeinsame Zeit.Antonia ♾️ Manfred ♾️ Christina \n\n\n\nin den Newsletter eintragen \n\n\n\nzur Datenschutzerklärung \n\n\n\nSensual Love Base Family - Nähe erleben. Liebe spüren. Herzen verbinden.
URL:https://sensual-lovebase.com/event/abend-der-sinne-angel-touch-fuer-yoni-und-lingam-ildiko-vegh/
LOCATION:Möbeldepot\, Karl Tornay Gasse 34\, Wien\, Wien\, 1230\, Austria
CATEGORIES:Abend der Sinne
ATTACH;FMTTYPE=image/png:https://sensual-lovebase.com/wp-content/uploads/abende-der-sinne-rund-e1758144407165.png
END:VEVENT
END:VCALENDAR