BEGIN:VCALENDAR
VERSION:2.0
PRODID:-//Love Base Festival - ECPv6.15.20//NONSGML v1.0//EN
CALSCALE:GREGORIAN
METHOD:PUBLISH
X-ORIGINAL-URL:https://sensual-lovebase.com
X-WR-CALDESC:Veranstaltungen für Love Base Festival
REFRESH-INTERVAL;VALUE=DURATION:PT1H
X-Robots-Tag:noindex
X-PUBLISHED-TTL:PT1H
BEGIN:VTIMEZONE
TZID:Europe/Vienna
BEGIN:DAYLIGHT
TZOFFSETFROM:+0100
TZOFFSETTO:+0200
TZNAME:CEST
DTSTART:20250330T010000
END:DAYLIGHT
BEGIN:STANDARD
TZOFFSETFROM:+0200
TZOFFSETTO:+0100
TZNAME:CET
DTSTART:20251026T010000
END:STANDARD
BEGIN:DAYLIGHT
TZOFFSETFROM:+0100
TZOFFSETTO:+0200
TZNAME:CEST
DTSTART:20260329T010000
END:DAYLIGHT
BEGIN:STANDARD
TZOFFSETFROM:+0200
TZOFFSETTO:+0100
TZNAME:CET
DTSTART:20261025T010000
END:STANDARD
BEGIN:DAYLIGHT
TZOFFSETFROM:+0100
TZOFFSETTO:+0200
TZNAME:CEST
DTSTART:20270328T010000
END:DAYLIGHT
BEGIN:STANDARD
TZOFFSETFROM:+0200
TZOFFSETTO:+0100
TZNAME:CET
DTSTART:20271031T010000
END:STANDARD
END:VTIMEZONE
BEGIN:VEVENT
DTSTART;TZID=Europe/Vienna:20260316T190000
DTEND;TZID=Europe/Vienna:20260316T220000
DTSTAMP:20260422T153303
CREATED:20250902T112353Z
LAST-MODIFIED:20260327T235320Z
UID:892-1773687600-1773698400@sensual-lovebase.com
SUMMARY:Abend der Sinne "Magic Hands – Magie der Berührung" mit Delia Rubick
DESCRIPTION:Über den Workshop\nDelia wird euch wieder in den magischen Raum der Berührung führen. Liebevoll wird sie für dich eine Atmosphäre kreieren\, in der du dich vertrauensvoll fallen lassen kannst. Verwandle deine Hände in Magic Hands und schenke Berührungen die unvergesslich sind. Inspiriert von den Elementen bekommst du eine Auswahl an Berührungs-Qualitäten: erdend\, anregend\, fließend\, beruhigend\, … Spielerisch nähern wir uns den eigenen Vorlieben beim Berühren und Berührt-werden. Ein wesentlicher Teil dabei ist die eigene Wahrnehmung\, was tut mir gut?\nIn einem achtsam angeleiteten Ritual bekommst du Einblick in die magischen Momente\, wenn wahre Verbundenheit mit dir und anderen entsteht. Du wirst die Berührungen sowohl empfangen als auch schenken.\nDu bist eingeladen\, die Massage auf nackter Haut zu empfangen\, wobei du entscheidest wie weit du gehen magst (nackt\, in Unterwäsche\, lockerer Kleidung z.B. Leggins)\nKomm allein oder mit deiner Partnerin\, deinem Partner. Alle Paar-Konstellationen sind willkommen!\nDas Ritual findet paarweise statt\, du kannst gerne deinen PartnerIn im Workshop dafür finden. Es ist egal ob du noch nie massiert\, oder schon Erfahrung mit sinnlicher Berührung hast. \nDer Energieausgleich für den Abend wird in deinem Ermessen zwischen 36\,- und 45\,- liegen. \nLink in die Signal Gruppe zur fixen Anmeldung \nWichtige Hinweise\n\nIn diesem Workshop sind wir nackt\nBitte kommt bereits in Lunghi umgezogen\n\nBringt bitte mit\n\nEin Platztuch\nEin Tuch zum Bedecken des Sitzkissens\n\nAnleitung\nDelia \n\n\n\n\n\n\n\n\n\nSensual Love Base\n\n\n\nWir laden Dich ein zu einer Reise des Spürens und der Herzöffnung – getragen von Vertrauen\, Liebe und gelebter Achtsamkeit\, und dem Mut\, Dich wirklich zu zeigen. \n\n\n\nWir bieten ca. alle 3 Wochen einen "Abend der Sinne" im Möbeldepot an. Jeder Abend wird von einer anderen Anleiterin oder einem anderen Anleiter angeleitet. \n\n\n\nUnverbindlicher Link in die allgemeine Gruppe \n\n\n\nWas Dich erwartet:\n\n\n\n\ntiefer ins Fühlen eintauchen\n\n\n\nDich selbst klarer wahrnehmen\n\n\n\neinander mit offenem Herzen begegnen\n\n\n\ngetragen sein in Achtsamkeit\, Berührung\, Klang\, Atem und Ritual\n\n\n\n\nKommt wie Ihr seid – lasst uns gemeinsam den Raum der Liebe halten. \n\n\n\nDer Energieausgleich für den Abend wird in deinem Ermessen zwischen €36\,- und €45\,- liegen. Für Vereinsmitglieder reduziert. \n\n\n\nSchick unserer Veranstaltungen gerne an deine Freunde weiter 💕 \n\n\n\nWir umarmen dich und freuen uns auf eine wunderbare gemeinsame Zeit.Antonia ♾️ Manfred ♾️ Christina \n\n\n\nin den Newsletter eintragen \n\n\n\nzur Datenschutzerklärung \n\n\n\nSensual Love Base Family - Nähe erleben. Liebe spüren. Herzen verbinden.
URL:https://sensual-lovebase.com/event/abend-der-sinne-mit-delia-2/
LOCATION:Möbeldepot\, Karl Tornay Gasse 34\, Wien\, Wien\, 1230\, Austria
CATEGORIES:Abend der Sinne,Delia
ATTACH;FMTTYPE=image/png:https://sensual-lovebase.com/wp-content/uploads/abende-der-sinne-rund-e1758144407165.png
END:VEVENT
END:VCALENDAR